Package: openCyto Version: 2.19.0 Command: chmod a+r openCyto -R && E:\biocbuild\bbs-3.21-bioc\R\bin\R.exe CMD build --keep-empty-dirs --no-resave-data openCyto StartedAt: 2025-02-19 20:28:03 -0500 (Wed, 19 Feb 2025) EndedAt: 2025-02-19 20:35:50 -0500 (Wed, 19 Feb 2025) EllapsedTime: 467.5 seconds RetCode: 0 Status: OK PackageFile: openCyto_2.19.0.tar.gz PackageFileSize: 1.048 MiB