Package: openCyto Version: 2.19.0 Command: /home/biocbuild/R/R/bin/R CMD build --keep-empty-dirs --no-resave-data openCyto StartedAt: 2025-01-29 01:01:39 -0000 (Wed, 29 Jan 2025) EndedAt: 2025-01-29 01:04:00 -0000 (Wed, 29 Jan 2025) EllapsedTime: 141.2 seconds RetCode: 0 Status: OK PackageFile: openCyto_2.19.0.tar.gz PackageFileSize: 1.289 MiB