Package: openCyto Version: 2.19.0 Command: /Library/Frameworks/R.framework/Resources/bin/R CMD check --install=check:openCyto.install-out.txt --library=/Library/Frameworks/R.framework/Resources/library --no-vignettes --timings openCyto_2.19.0.tar.gz StartedAt: 2025-02-19 20:37:02 -0500 (Wed, 19 Feb 2025) EndedAt: 2025-02-19 20:37:54 -0500 (Wed, 19 Feb 2025) EllapsedTime: 52.5 seconds RetCode: 0 Status: WARNINGS CheckDir: openCyto.Rcheck Warnings: 4