Package: ontoProc Version: 2.1.4 Command: /home/biocbuild/bbs-3.21-bioc/R/bin/R CMD check --install=check:ontoProc.install-out.txt --library=/home/biocbuild/bbs-3.21-bioc/R/site-library --timings ontoProc_2.1.4.tar.gz StartedAt: 2025-02-11 01:05:39 -0500 (Tue, 11 Feb 2025) EndedAt: 2025-02-11 01:28:29 -0500 (Tue, 11 Feb 2025) EllapsedTime: 1370.5 seconds RetCode: 0 Status: OK CheckDir: ontoProc.Rcheck Warnings: 0