Package: ontoProc Version: 2.1.4 Command: /home/biocbuild/bbs-3.21-bioc/R/bin/R CMD build --keep-empty-dirs --no-resave-data ontoProc StartedAt: 2025-02-20 18:33:34 -0500 (Thu, 20 Feb 2025) EndedAt: 2025-02-20 18:33:35 -0500 (Thu, 20 Feb 2025) EllapsedTime: 1.0 seconds RetCode: 1 Status: ERROR PackageFile: None PackageFileSize: NA