############################################################################## ############################################################################## ### ### Running command: ### ### /home/biocbuild/bbs-3.21-bioc/R/bin/R CMD build --keep-empty-dirs --no-resave-data ontoProc ### ############################################################################## ############################################################################## * checking for file ‘ontoProc/DESCRIPTION’ ... OK * preparing ‘ontoProc’: * checking DESCRIPTION meta-information ... OK * installing the package to build vignettes ----------------------------------- ERROR: dependencies ‘Rgraphviz’, ‘ontologyPlot’ are not available for package ‘ontoProc’ Perhaps try a variation of: install.packages(c('Rgraphviz', 'ontologyPlot')) * removing ‘/tmp/RtmpSIRrHD/Rinst1e04f2223ce202/ontoProc’ ----------------------------------- ERROR: package installation failed