Package: ontoProc Version: 2.1.4 Command: /Library/Frameworks/R.framework/Resources/bin/R CMD check --install=check:ontoProc.install-out.txt --library=/Library/Frameworks/R.framework/Resources/library --no-vignettes --timings ontoProc_2.1.4.tar.gz StartedAt: 2025-02-10 22:46:02 -0500 (Mon, 10 Feb 2025) EndedAt: 2025-02-10 23:01:33 -0500 (Mon, 10 Feb 2025) EllapsedTime: 930.7 seconds RetCode: 0 Status: OK CheckDir: ontoProc.Rcheck Warnings: 0