Package: ontoProc Version: 2.1.4 Command: rm -rf ontoProc.buildbin-libdir && mkdir ontoProc.buildbin-libdir && /Users/biocbuild/BBS/utils/build-universal.sh ontoProc_2.1.4.tar.gz /Library/Frameworks/R.framework/Resources/bin/R ontoProc.buildbin-libdir StartedAt: 2025-02-11 01:20:47 -0500 (Tue, 11 Feb 2025) EndedAt: 2025-02-11 01:21:35 -0500 (Tue, 11 Feb 2025) EllapsedTime: 47.4 seconds RetCode: 0 Status: OK PackageFile: ontoProc_2.1.4.tgz PackageFileSize: 11.02 MiB