Package: onlineFDR Version: 2.15.0 Command: /Library/Frameworks/R.framework/Resources/bin/R CMD INSTALL onlineFDR StartedAt: 2025-02-18 15:02:06 -0500 (Tue, 18 Feb 2025) EndedAt: 2025-02-18 15:02:18 -0500 (Tue, 18 Feb 2025) EllapsedTime: 12.2 seconds RetCode: 0 Status: OK