Package: oncoscanR Version: 1.9.0 Command: E:\biocbuild\bbs-3.21-bioc\R\bin\R.exe CMD check --no-multiarch --install=check:oncoscanR.install-out.txt --library=E:\biocbuild\bbs-3.21-bioc\R\library --no-vignettes --timings oncoscanR_1.9.0.tar.gz StartedAt: 2025-02-19 03:40:59 -0500 (Wed, 19 Feb 2025) EndedAt: 2025-02-19 03:48:03 -0500 (Wed, 19 Feb 2025) EllapsedTime: 423.7 seconds RetCode: 0 Status: OK CheckDir: oncoscanR.Rcheck Warnings: 0