Package: oncoscanR Version: 1.9.0 Command: rm -rf oncoscanR.buildbin-libdir && mkdir oncoscanR.buildbin-libdir && E:\biocbuild\bbs-3.21-bioc\R\bin\R.exe CMD INSTALL --build --library=oncoscanR.buildbin-libdir oncoscanR_1.9.0.tar.gz StartedAt: 2025-02-19 08:01:03 -0500 (Wed, 19 Feb 2025) EndedAt: 2025-02-19 08:01:33 -0500 (Wed, 19 Feb 2025) EllapsedTime: 30.5 seconds RetCode: 0 Status: OK PackageFile: oncoscanR_1.9.0.zip PackageFileSize: 1.045 MiB