Package: oncoscanR Version: 1.9.0 Command: /Library/Frameworks/R.framework/Resources/bin/R CMD build --keep-empty-dirs --no-resave-data oncoscanR StartedAt: 2025-02-18 17:37:56 -0500 (Tue, 18 Feb 2025) EndedAt: 2025-02-18 17:40:41 -0500 (Tue, 18 Feb 2025) EllapsedTime: 164.4 seconds RetCode: 0 Status: OK PackageFile: oncoscanR_1.9.0.tar.gz PackageFileSize: 990.7 KiB