Package: oncomix Version: 1.29.0 Command: E:\biocbuild\bbs-3.21-bioc\R\bin\R.exe CMD INSTALL oncomix StartedAt: 2025-02-18 16:02:47 -0500 (Tue, 18 Feb 2025) EndedAt: 2025-02-18 16:03:16 -0500 (Tue, 18 Feb 2025) EllapsedTime: 29.2 seconds RetCode: 0 Status: OK