Package: oncomix Version: 1.29.0 Command: /Library/Frameworks/R.framework/Resources/bin/R CMD check --install=check:oncomix.install-out.txt --library=/Library/Frameworks/R.framework/Resources/library --no-vignettes --timings oncomix_1.29.0.tar.gz StartedAt: 2025-02-18 22:02:57 -0500 (Tue, 18 Feb 2025) EndedAt: 2025-02-18 22:06:01 -0500 (Tue, 18 Feb 2025) EllapsedTime: 183.9 seconds RetCode: 0 Status: OK CheckDir: oncomix.Rcheck Warnings: 0