Package: oncomix Version: 1.29.0 Command: /Library/Frameworks/R.framework/Resources/bin/R CMD build --keep-empty-dirs --no-resave-data oncomix StartedAt: 2025-02-18 17:37:53 -0500 (Tue, 18 Feb 2025) EndedAt: 2025-02-18 17:38:36 -0500 (Tue, 18 Feb 2025) EllapsedTime: 43.3 seconds RetCode: 0 Status: OK PackageFile: oncomix_1.29.0.tar.gz PackageFileSize: 2.434 MiB