Package: ompBAM Version: 1.11.0 Command: E:\biocbuild\bbs-3.21-bioc\R\bin\R.exe CMD INSTALL ompBAM StartedAt: 2025-02-19 16:50:34 -0500 (Wed, 19 Feb 2025) EndedAt: 2025-02-19 16:50:42 -0500 (Wed, 19 Feb 2025) EllapsedTime: 8.0 seconds RetCode: 0 Status: OK