Package: omicsViewer Version: 1.11.1 Command: /home/biocbuild/bbs-3.21-bioc/R/bin/R CMD check --install=check:omicsViewer.install-out.txt --library=/home/biocbuild/bbs-3.21-bioc/R/site-library --timings omicsViewer_1.11.1.tar.gz StartedAt: 2025-02-20 00:48:42 -0500 (Thu, 20 Feb 2025) EndedAt: 2025-02-20 00:53:52 -0500 (Thu, 20 Feb 2025) EllapsedTime: 310.4 seconds RetCode: 0 Status: OK CheckDir: omicsViewer.Rcheck Warnings: 0