Package: omicsPrint Version: 1.27.0 Command: rm -rf omicsPrint.buildbin-libdir && mkdir omicsPrint.buildbin-libdir && E:\biocbuild\bbs-3.21-bioc\R\bin\R.exe CMD INSTALL --build --library=omicsPrint.buildbin-libdir omicsPrint_1.27.0.tar.gz StartedAt: 2025-02-21 08:41:57 -0500 (Fri, 21 Feb 2025) EndedAt: 2025-02-21 08:42:32 -0500 (Fri, 21 Feb 2025) EllapsedTime: 35.2 seconds RetCode: 0 Status: OK PackageFile: omicsPrint_1.27.0.zip PackageFileSize: 7.178 MiB