Package: omicsPrint Version: 1.27.0 Command: /home/biocbuild/bbs-3.21-bioc/R/bin/R CMD check --install=check:omicsPrint.install-out.txt --library=/home/biocbuild/bbs-3.21-bioc/R/site-library --timings omicsPrint_1.27.0.tar.gz StartedAt: 2025-02-22 00:40:07 -0500 (Sat, 22 Feb 2025) EndedAt: 2025-02-22 00:43:34 -0500 (Sat, 22 Feb 2025) EllapsedTime: 207.2 seconds RetCode: 0 Status: WARNINGS CheckDir: omicsPrint.Rcheck Warnings: 1