Package: omicsPrint Version: 1.27.0 Command: /home/biocbuild/bbs-3.21-bioc/R/bin/R CMD build --keep-empty-dirs --no-resave-data omicsPrint StartedAt: 2025-02-21 18:53:24 -0500 (Fri, 21 Feb 2025) EndedAt: 2025-02-21 18:54:21 -0500 (Fri, 21 Feb 2025) EllapsedTime: 57.1 seconds RetCode: 0 Status: OK PackageFile: omicsPrint_1.27.0.tar.gz PackageFileSize: 4.294 MiB