Package: omicsPrint Version: 1.27.0 Command: /Library/Frameworks/R.framework/Resources/bin/R CMD build --keep-empty-dirs --no-resave-data omicsPrint StartedAt: 2025-02-20 17:39:07 -0500 (Thu, 20 Feb 2025) EndedAt: 2025-02-20 17:40:13 -0500 (Thu, 20 Feb 2025) EllapsedTime: 66.2 seconds RetCode: 0 Status: OK PackageFile: omicsPrint_1.27.0.tar.gz PackageFileSize: 4.338 MiB