Package: omicsPrint Version: 1.27.0 Command: /Library/Frameworks/R.framework/Resources/bin/R CMD check --install=check:omicsPrint.install-out.txt --library=/Library/Frameworks/R.framework/Resources/library --no-vignettes --timings omicsPrint_1.27.0.tar.gz StartedAt: 2025-02-20 20:32:53 -0500 (Thu, 20 Feb 2025) EndedAt: 2025-02-20 20:34:02 -0500 (Thu, 20 Feb 2025) EllapsedTime: 68.8 seconds RetCode: 0 Status: WARNINGS CheckDir: omicsPrint.Rcheck Warnings: 1