Package: omicplotR Version: 1.28.0 Command: /Library/Frameworks/R.framework/Resources/bin/R CMD INSTALL omicplotR StartedAt: 2025-10-02 16:01:05 -0400 (Thu, 02 Oct 2025) EndedAt: 2025-10-02 16:01:55 -0400 (Thu, 02 Oct 2025) EllapsedTime: 49.8 seconds RetCode: 0 Status: OK