Package: omicplotR Version: 1.28.0 Command: rm -rf omicplotR.buildbin-libdir && mkdir omicplotR.buildbin-libdir && /Users/biocbuild/BBS/utils/build-universal.sh omicplotR_1.28.0.tar.gz /Library/Frameworks/R.framework/Resources/bin/R omicplotR.buildbin-libdir StartedAt: 2025-10-03 14:02:24 -0400 (Fri, 03 Oct 2025) EndedAt: 2025-10-03 14:03:45 -0400 (Fri, 03 Oct 2025) EllapsedTime: 81.0 seconds RetCode: 0 Status: OK PackageFile: omicplotR_1.28.0.tgz PackageFileSize: 1.182 MiB