Package: omicplotR Version: 1.27.0 Command: /Library/Frameworks/R.framework/Resources/bin/R CMD build --keep-empty-dirs --no-resave-data omicplotR StartedAt: 2025-02-18 17:09:51 -0500 (Tue, 18 Feb 2025) EndedAt: 2025-02-18 17:10:02 -0500 (Tue, 18 Feb 2025) EllapsedTime: 11.1 seconds RetCode: 0 Status: OK PackageFile: omicplotR_1.27.0.tar.gz PackageFileSize: 1.641 MiB