Package: omicade4 Version: 1.47.0 Command: E:\biocbuild\bbs-3.21-bioc\R\bin\R.exe CMD INSTALL omicade4 StartedAt: 2025-02-21 16:44:33 -0500 (Fri, 21 Feb 2025) EndedAt: 2025-02-21 16:45:02 -0500 (Fri, 21 Feb 2025) EllapsedTime: 29.7 seconds RetCode: 0 Status: OK