Package: omicade4 Version: 1.47.0 Command: E:\biocbuild\bbs-3.21-bioc\R\bin\R.exe CMD check --no-multiarch --install=check:omicade4.install-out.txt --library=E:\biocbuild\bbs-3.21-bioc\R\library --no-vignettes --timings omicade4_1.47.0.tar.gz StartedAt: 2025-02-22 04:29:21 -0500 (Sat, 22 Feb 2025) EndedAt: 2025-02-22 04:32:27 -0500 (Sat, 22 Feb 2025) EllapsedTime: 185.7 seconds RetCode: 0 Status: OK CheckDir: omicade4.Rcheck Warnings: 0