Package: omicade4 Version: 1.47.0 Command: rm -rf omicade4.buildbin-libdir && mkdir omicade4.buildbin-libdir && E:\biocbuild\bbs-3.21-bioc\R\bin\R.exe CMD INSTALL --build --library=omicade4.buildbin-libdir omicade4_1.47.0.tar.gz StartedAt: 2025-02-22 08:55:10 -0500 (Sat, 22 Feb 2025) EndedAt: 2025-02-22 08:55:41 -0500 (Sat, 22 Feb 2025) EllapsedTime: 30.5 seconds RetCode: 0 Status: OK PackageFile: omicade4_1.47.0.zip PackageFileSize: 617.8 KiB