Package: omicade4 Version: 1.47.0 Command: /home/biocbuild/bbs-3.21-bioc/R/bin/R CMD build --keep-empty-dirs --no-resave-data omicade4 StartedAt: 2025-02-20 18:31:47 -0500 (Thu, 20 Feb 2025) EndedAt: 2025-02-20 18:32:20 -0500 (Thu, 20 Feb 2025) EllapsedTime: 33.0 seconds RetCode: 0 Status: OK PackageFile: omicade4_1.47.0.tar.gz PackageFileSize: 543.9 KiB