Package: omicade4 Version: 1.47.0 Command: rm -rf omicade4.buildbin-libdir && mkdir omicade4.buildbin-libdir && /Users/biocbuild/BBS/utils/build-universal.sh omicade4_1.47.0.tar.gz /Library/Frameworks/R.framework/Resources/bin/R omicade4.buildbin-libdir StartedAt: 2025-02-21 00:43:45 -0500 (Fri, 21 Feb 2025) EndedAt: 2025-02-21 00:44:16 -0500 (Fri, 21 Feb 2025) EllapsedTime: 31.2 seconds RetCode: 0 Status: OK PackageFile: omicade4_1.47.0.tgz PackageFileSize: 612.7 KiB