Package: omicade4 Version: 1.47.0 Command: /home/biocbuild/R/R/bin/R CMD check --install=check:omicade4.install-out.txt --library=/home/biocbuild/R/R/site-library --no-vignettes --timings omicade4_1.47.0.tar.gz StartedAt: 2025-01-28 13:27:13 -0000 (Tue, 28 Jan 2025) EndedAt: 2025-01-28 13:31:31 -0000 (Tue, 28 Jan 2025) EllapsedTime: 257.7 seconds RetCode: 0 Status: OK CheckDir: omicade4.Rcheck Warnings: 0