Package: omicade4 Version: 1.47.0 Command: /Library/Frameworks/R.framework/Resources/bin/R CMD INSTALL omicade4 StartedAt: 2025-02-20 15:04:48 -0500 (Thu, 20 Feb 2025) EndedAt: 2025-02-20 15:04:57 -0500 (Thu, 20 Feb 2025) EllapsedTime: 8.6 seconds RetCode: 0 Status: OK