Package: omicRexposome Version: 1.29.0 Command: /home/biocbuild/bbs-3.21-bioc/R/bin/R CMD build --keep-empty-dirs --no-resave-data omicRexposome StartedAt: 2025-02-18 18:20:54 -0500 (Tue, 18 Feb 2025) EndedAt: 2025-02-18 18:32:06 -0500 (Tue, 18 Feb 2025) EllapsedTime: 672.0 seconds RetCode: 0 Status: OK PackageFile: omicRexposome_1.29.0.tar.gz PackageFileSize: 2.566 MiB