Package: omicRexposome Version: 1.29.0 Command: rm -rf omicRexposome.buildbin-libdir && mkdir omicRexposome.buildbin-libdir && /Users/biocbuild/BBS/utils/build-universal.sh omicRexposome_1.29.0.tar.gz /Library/Frameworks/R.framework/Resources/bin/R omicRexposome.buildbin-libdir StartedAt: 2025-02-18 22:31:24 -0500 (Tue, 18 Feb 2025) EndedAt: 2025-02-18 22:31:44 -0500 (Tue, 18 Feb 2025) EllapsedTime: 19.4 seconds RetCode: 0 Status: OK PackageFile: omicRexposome_1.29.0.tgz PackageFileSize: 2.951 MiB