Package: omada Version: 1.9.0 Command: E:\biocbuild\bbs-3.21-bioc\R\bin\R.exe CMD INSTALL omada StartedAt: 2025-02-20 15:54:19 -0500 (Thu, 20 Feb 2025) EndedAt: 2025-02-20 15:54:56 -0500 (Thu, 20 Feb 2025) EllapsedTime: 37.2 seconds RetCode: 0 Status: OK