Package: omada Version: 1.9.0 Command: chmod a+r omada -R && E:\biocbuild\bbs-3.21-bioc\R\bin\R.exe CMD build --keep-empty-dirs --no-resave-data omada StartedAt: 2025-02-20 20:28:31 -0500 (Thu, 20 Feb 2025) EndedAt: 2025-02-20 20:32:14 -0500 (Thu, 20 Feb 2025) EllapsedTime: 222.3 seconds RetCode: 0 Status: OK PackageFile: omada_1.9.0.tar.gz PackageFileSize: 83.02 KiB