Package: omada Version: 1.9.0 Command: /home/biocbuild/bbs-3.21-bioc/R/bin/R CMD check --install=check:omada.install-out.txt --library=/home/biocbuild/bbs-3.21-bioc/R/site-library --timings omada_1.9.0.tar.gz StartedAt: 2025-02-21 00:17:25 -0500 (Fri, 21 Feb 2025) EndedAt: 2025-02-21 00:31:30 -0500 (Fri, 21 Feb 2025) EllapsedTime: 844.5 seconds RetCode: 0 Status: OK CheckDir: omada.Rcheck Warnings: 0