Package: omada Version: 1.9.0 Command: /home/biocbuild/bbs-3.21-bioc/R/bin/R CMD build --keep-empty-dirs --no-resave-data omada StartedAt: 2025-02-20 18:31:44 -0500 (Thu, 20 Feb 2025) EndedAt: 2025-02-20 18:33:33 -0500 (Thu, 20 Feb 2025) EllapsedTime: 109.1 seconds RetCode: 0 Status: OK PackageFile: omada_1.9.0.tar.gz PackageFileSize: 175.8 KiB