Package: omXplore Version: 1.1.0 Command: E:\biocbuild\bbs-3.21-bioc\R\bin\R.exe CMD check --no-multiarch --install=check:omXplore.install-out.txt --library=E:\biocbuild\bbs-3.21-bioc\R\library --no-vignettes --timings omXplore_1.1.0.tar.gz StartedAt: 2025-02-21 04:03:45 -0500 (Fri, 21 Feb 2025) EndedAt: 2025-02-21 04:09:46 -0500 (Fri, 21 Feb 2025) EllapsedTime: 360.2 seconds RetCode: 1 Status: ERROR CheckDir: omXplore.Rcheck Warnings: NA