Package: omXplore Version: 1.1.0 Command: chmod a+r omXplore -R && E:\biocbuild\bbs-3.21-bioc\R\bin\R.exe CMD build --keep-empty-dirs --no-resave-data omXplore StartedAt: 2025-02-20 20:29:32 -0500 (Thu, 20 Feb 2025) EndedAt: 2025-02-20 20:31:10 -0500 (Thu, 20 Feb 2025) EllapsedTime: 97.5 seconds RetCode: 0 Status: OK PackageFile: omXplore_1.1.0.tar.gz PackageFileSize: 2.012 MiB