Package: omXplore Version: 1.1.0 Command: rm -rf omXplore.buildbin-libdir && mkdir omXplore.buildbin-libdir && E:\biocbuild\bbs-3.21-bioc\R\bin\R.exe CMD INSTALL --build --library=omXplore.buildbin-libdir omXplore_1.1.0.tar.gz StartedAt: 2025-02-21 08:42:12 -0500 (Fri, 21 Feb 2025) EndedAt: 2025-02-21 08:43:24 -0500 (Fri, 21 Feb 2025) EllapsedTime: 72.0 seconds RetCode: 0 Status: OK PackageFile: omXplore_1.1.0.zip PackageFileSize: 1.558 MiB