Package: omXplore Version: 1.1.0 Command: /home/biocbuild/bbs-3.21-bioc/R/bin/R CMD check --install=check:omXplore.install-out.txt --library=/home/biocbuild/bbs-3.21-bioc/R/site-library --timings omXplore_1.1.0.tar.gz StartedAt: 2025-02-21 00:19:35 -0500 (Fri, 21 Feb 2025) EndedAt: 2025-02-21 00:24:57 -0500 (Fri, 21 Feb 2025) EllapsedTime: 322.5 seconds RetCode: 1 Status: ERROR CheckDir: omXplore.Rcheck Warnings: NA