Package: omXplore Version: 1.1.0 Command: /Library/Frameworks/R.framework/Resources/bin/R CMD build --keep-empty-dirs --no-resave-data omXplore StartedAt: 2025-02-20 17:39:22 -0500 (Thu, 20 Feb 2025) EndedAt: 2025-02-20 17:40:25 -0500 (Thu, 20 Feb 2025) EllapsedTime: 62.8 seconds RetCode: 0 Status: OK PackageFile: omXplore_1.1.0.tar.gz PackageFileSize: 2.012 MiB