Package: oligoClasses Version: 1.69.0 Command: /home/biocbuild/bbs-3.21-bioc/R/bin/R CMD build --keep-empty-dirs --no-resave-data oligoClasses StartedAt: 2025-02-20 18:31:33 -0500 (Thu, 20 Feb 2025) EndedAt: 2025-02-20 18:31:34 -0500 (Thu, 20 Feb 2025) EllapsedTime: 1.0 seconds RetCode: 0 Status: OK PackageFile: oligoClasses_1.69.0.tar.gz PackageFileSize: 364.6 KiB