Package: oligoClasses Version: 1.69.0 Command: /Library/Frameworks/R.framework/Resources/bin/R CMD INSTALL oligoClasses StartedAt: 2025-02-20 15:12:27 -0500 (Thu, 20 Feb 2025) EndedAt: 2025-02-20 15:13:15 -0500 (Thu, 20 Feb 2025) EllapsedTime: 47.1 seconds RetCode: 0 Status: OK