Package: oligo Version: 1.71.0 Command: /home/biocbuild/bbs-3.21-bioc/R/bin/R CMD build --keep-empty-dirs --no-resave-data oligo StartedAt: 2025-02-19 18:26:08 -0500 (Wed, 19 Feb 2025) EndedAt: 2025-02-19 18:26:10 -0500 (Wed, 19 Feb 2025) EllapsedTime: 2.0 seconds RetCode: 1 Status: ERROR PackageFile: None PackageFileSize: NA