Package: odseq Version: 1.35.0 Command: /home/biocbuild/bbs-3.21-bioc/R/bin/R CMD INSTALL odseq StartedAt: 2025-02-19 15:35:25 -0500 (Wed, 19 Feb 2025) EndedAt: 2025-02-19 15:35:41 -0500 (Wed, 19 Feb 2025) EllapsedTime: 16.0 seconds RetCode: 0 Status: OK