Package: nullranges Version: 1.13.0 Command: /home/biocbuild/bbs-3.21-bioc/R/bin/R CMD INSTALL nullranges StartedAt: 2025-02-17 15:32:36 -0500 (Mon, 17 Feb 2025) EndedAt: 2025-02-17 15:33:12 -0500 (Mon, 17 Feb 2025) EllapsedTime: 36.1 seconds RetCode: 0 Status: OK