Package: nullranges Version: 1.13.0 Command: /home/biocbuild/bbs-3.21-bioc/R/bin/R CMD check --install=check:nullranges.install-out.txt --library=/home/biocbuild/bbs-3.21-bioc/R/site-library --timings nullranges_1.13.0.tar.gz StartedAt: 2025-02-18 00:35:44 -0500 (Tue, 18 Feb 2025) EndedAt: 2025-02-18 00:42:42 -0500 (Tue, 18 Feb 2025) EllapsedTime: 418.7 seconds RetCode: 0 Status: OK CheckDir: nullranges.Rcheck Warnings: 0