Package: nullranges Version: 1.13.0 Command: /home/biocbuild/bbs-3.21-bioc/R/bin/R CMD build --keep-empty-dirs --no-resave-data nullranges StartedAt: 2025-02-17 18:22:39 -0500 (Mon, 17 Feb 2025) EndedAt: 2025-02-17 18:24:57 -0500 (Mon, 17 Feb 2025) EllapsedTime: 138.2 seconds RetCode: 0 Status: OK PackageFile: nullranges_1.13.0.tar.gz PackageFileSize: 4.828 MiB